BEGIN:VCALENDAR
VERSION:2.0
PRODID:-//Thorpe Morieux - ECPv6.15.20//NONSGML v1.0//EN
CALSCALE:GREGORIAN
METHOD:PUBLISH
X-ORIGINAL-URL:https://thorpemorieuxparish.gov.uk
X-WR-CALDESC:Events for Thorpe Morieux
REFRESH-INTERVAL;VALUE=DURATION:PT1H
X-Robots-Tag:noindex
X-PUBLISHED-TTL:PT1H
BEGIN:VTIMEZONE
TZID:Europe/London
BEGIN:DAYLIGHT
TZOFFSETFROM:+0000
TZOFFSETTO:+0100
TZNAME:BST
DTSTART:20170326T010000
END:DAYLIGHT
BEGIN:STANDARD
TZOFFSETFROM:+0100
TZOFFSETTO:+0000
TZNAME:GMT
DTSTART:20171029T010000
END:STANDARD
BEGIN:DAYLIGHT
TZOFFSETFROM:+0000
TZOFFSETTO:+0100
TZNAME:BST
DTSTART:20180325T010000
END:DAYLIGHT
BEGIN:STANDARD
TZOFFSETFROM:+0100
TZOFFSETTO:+0000
TZNAME:GMT
DTSTART:20181028T010000
END:STANDARD
BEGIN:DAYLIGHT
TZOFFSETFROM:+0000
TZOFFSETTO:+0100
TZNAME:BST
DTSTART:20190331T010000
END:DAYLIGHT
BEGIN:STANDARD
TZOFFSETFROM:+0100
TZOFFSETTO:+0000
TZNAME:GMT
DTSTART:20191027T010000
END:STANDARD
END:VTIMEZONE
BEGIN:VEVENT
DTSTART;TZID=Europe/London:20181025T200000
DTEND;TZID=Europe/London:20181025T200000
DTSTAMP:20260419T133124
CREATED:20181020T180953Z
LAST-MODIFIED:20181020T180953Z
UID:1341-1540497600-1540497600@thorpemorieuxparish.gov.uk
SUMMARY:Parish Council Meeting
DESCRIPTION:The Councillors of Thorpe Morieux Parish Council are summoned to an Additional Parish Council Meeting to be held on Thursday 25th October at 8pm in the Village Hall\, Thorpe Morieux. \nAGENDA \n\nApologies for absence:\n\nTo receive apologies for absence\nTo consent/non consent to accept the apologies for absence\n\n\nMembers’ Declarations of Interest\n\nTo receive disclosures of pecuniary and non-pecuniary interests for the agendaunder discussion;\nTo receive declarations of gifts of hospitality received;\nTo consider requests for dispensation for pecuniary interests for the agenda underdiscussion.\n\n\nPublic Forum\nClerk’s Report: to consider and approve payment of the VAT element of the Firepit Company invoice (to be recovered by the Parish Council).\nPlanning Matter:\nAppeal – Chapel Farm Barn\, The Green\, Thorpe Morieux.\nRefusal of application for a lawful development certificate for existing use or development for the use of a barn as 1 no dwelling. Enforcement notice served on 2nd February 2018 requiring cessation of the use and occupation of the barn and its curtilage as a residential dwellinghouse.\nCllrs Report (if any)\nDate of Next Meeting: 8th November 2018.\n\nMEMBERS OF THE PUBLIC ARE VERY WELCOME TO ATTEND AND RAISE ISSUES OF CONCERN TO THE PARISH COUNCIL WITHIN THE PUBLIC FORUM \nNicola Smith\, 20/10/18 Parish Clerk \nthorpemorieuxpc@gmail.com
URL:https://thorpemorieuxparish.gov.uk/event/parish-council-meeting/
LOCATION:Thorpe Morieux Village Hall\, Bury Road\, Thorpe Morieux\, IP30 0NR\, United Kingdom
CATEGORIES:Parish Council
ORGANIZER;CN="Parish Clerk":MAILTO:thorpemorieuxpc@gmail.com
END:VEVENT
BEGIN:VEVENT
DTSTART;TZID=Europe/London:20180830T193000
DTEND;TZID=Europe/London:20180830T213000
DTSTAMP:20260419T133124
CREATED:20180605T083546Z
LAST-MODIFIED:20180826T091153Z
UID:884-1535657400-1535664600@thorpemorieuxparish.gov.uk
SUMMARY:Parish Council Meeting
DESCRIPTION:Downloadable PDF Agenda \nThe Councillors of Thorpe Morieux Parish Council are summoned to a Parish Council Meeting to be held on Thursday 30th August 2018\, commencing at 8pm in the Village Hall\, Thorpe Morieux. \nAGENDA \n\nApologies for absence:\n\nTo receive apologies for absence\nTo consent/non consent to accept the apologies for absence30 August 2018\n\n\nMembers’ Declarations of Interest\n\nTo receive disclosures of pecuniary and non-pecuniary interests for the agendaunder discussion;\nTo receive declarations of gifts of hospitality received;\nTo consider requests for dispensation for pecuniary interests for the agenda underdiscussion.\n\n\nMinutes: to consider and approve the Minutes of the Annual Parish Council Meeting on 10May 2018\, and Meetings on 23 May\, 13 June and 2 August 2018.\nPublic Forum\nCorrespondence (General correspondence has been circulated to Cllrs)\n\nEmail dated 1st August 2018 from Chief Constable regarding Suffolk local policingchanges;\nEmail dated 1st August 2018 from Strutt & Parker (Farms) Ltd confirming that theyare seeking a new owner for the company;\nEmail dated 3 August 2018 from Suffolk Accident Rescue Service (SARS);\nEmail dated 13 August 2018 from Orwell Housing regarding Whitethorn Leys – to beconsidered under Agenda items 7 and 18;\nEmail dated 16 August 2018 from parishioner regarding Chapel Farm Barn – to beconsidered under Agenda item 6.\n\n\nChapel Farm update (if available)\nWhitethorn Leys update\nParish website update\nDog fouling signs update\nBroadband update (if available)\nDefibrillator\nGrants – to include an update on the s106 monies\nWWI Memorial update\nRoad side hedge cutting\nBoundary Review\nClerk’s Report\nCllrs Reports (if any)\nPlanning Matters:\n\n\nPlanning Application DC/18/03804 – Erection of 3 no dwellings at land at Whitethorn Leys\, Thorpe Morieux. \nPlanning Decisions (noted):\nDC/18/01568 – outline planning application (access and layout to be considered) – erection of stable block with residential accommodation at Russell Stables\, Almshouse Green\, Thorpe Morieux. Outline planning permission has been granted. \nDC/18/01929 – The Hawthorns\, The Green\, householder application for the erection of a side extension. Planning permission has been granted. \nDC/18/02096 – Jaggards Barn\, Bury Road full planning application for conversion of agricultural building to a dwellinghouse using existing vehicular access. Erection of detachedgaragewithaccommodationover. Planningpermissionhasbeenrefused. \n19. Date of Next Meeting \nMEMBERS OF THE PUBLIC ARE VERY WELCOME TO ATTEND AND RAISE ISSUES OF CONCERN TO THE PARISH COUNCIL WITHIN THE PUBLIC FORUM \nNicola Smith\, 24/08/18 Parish Clerk \nthorpemorieuxpc@gmail.com
URL:https://thorpemorieuxparish.gov.uk/event/parish-council-meeting-2/
LOCATION:Thorpe Morieux Village Hall\, Bury Road\, Thorpe Morieux\, IP30 0NR\, United Kingdom
CATEGORIES:Parish Council
ORGANIZER;CN="Parish Clerk":MAILTO:thorpemorieuxpc@gmail.com
END:VEVENT
BEGIN:VEVENT
DTSTART;TZID=Europe/London:20180802T193000
DTEND;TZID=Europe/London:20180802T210000
DTSTAMP:20260419T133124
CREATED:20180727T222143Z
LAST-MODIFIED:20180727T222315Z
UID:1326-1533238200-1533243600@thorpemorieuxparish.gov.uk
SUMMARY:Additional Parish Council Planning Meeting
DESCRIPTION:Meeting Agenda has been provided\, click below to download: \nAdditional Meeting – 2 August 2018
URL:https://thorpemorieuxparish.gov.uk/event/parish-council-meeting-2-2/
LOCATION:Thorpe Morieux Village Hall\, Bury Road\, Thorpe Morieux\, IP30 0NR\, United Kingdom
CATEGORIES:Parish Council
ORGANIZER;CN="Parish Clerk":MAILTO:thorpemorieuxpc@gmail.com
END:VEVENT
BEGIN:VEVENT
DTSTART;TZID=Europe/London:20180613T193000
DTEND;TZID=Europe/London:20180613T213000
DTSTAMP:20260419T133124
CREATED:20180610T172602Z
LAST-MODIFIED:20180610T172710Z
UID:1116-1528918200-1528925400@thorpemorieuxparish.gov.uk
SUMMARY:Parish Council Meeting
DESCRIPTION:THORPE MORIEUX PARISH COUNCIL \nThe Councillors of Thorpe Morieux Parish Council are summoned to an Additional Parish Council Meeting to be held on Wednesday 13th June 2018\, commencing at 8.30pm in the Village Hall\, Thorpe Morieux. \nAGENDA \n\nApologies for absence:\n\nTo receive apologies for absence\nTo consent/non consent to accept the apologies for absence\n\n\nMembers’ Declarations of Interest\n\nTo receive disclosures of pecuniary and non-pecuniary interests for the agendaunder discussion;\nTo receive declarations of gifts of hospitality received;\nTo consider requests for dispensation for pecuniary interests for the agenda underdiscussion.\n\n\nPublic Forum\nTo consider a request from the Village Hall Committee regarding a donation towards the WWI Memorial.\nTo consider and approve Standing Orders and Financial Standing Orders\nAnnual Accounts for the Year Ending 31st March 2018\n\nTo consider the Annual Internal Audit Report 2017/2018;\nTo consider\, approve and sign the Annual Governance and AccountabilityStatement;\nTo consider\, approve and sign the Accounting Statement.\n\n\nCouncillor’s Reports (if any)\nDate of Next Meeting.\n\nMEMBERS OF THE PUBLIC ARE VERY WELCOME TO ATTEND AND RAISE ISSUES OF CONCERN TO THE PARISH COUNCIL WITHIN THE PUBLIC FORUM \nNicola Smith\, 08/06/18 Parish Clerk \nthorpemorieuxpc@gmail.com
URL:https://thorpemorieuxparish.gov.uk/event/parish-council-meeting-6/
LOCATION:Thorpe Morieux Village Hall\, Bury Road\, Thorpe Morieux\, IP30 0NR\, United Kingdom
CATEGORIES:Parish Council
ORGANIZER;CN="Parish Clerk":MAILTO:thorpemorieuxpc@gmail.com
END:VEVENT
END:VCALENDAR