BEGIN:VCALENDAR
VERSION:2.0
PRODID:-//Thorpe Morieux - ECPv6.15.20//NONSGML v1.0//EN
CALSCALE:GREGORIAN
METHOD:PUBLISH
X-ORIGINAL-URL:https://thorpemorieuxparish.gov.uk
X-WR-CALDESC:Events for Thorpe Morieux
REFRESH-INTERVAL;VALUE=DURATION:PT1H
X-Robots-Tag:noindex
X-PUBLISHED-TTL:PT1H
BEGIN:VTIMEZONE
TZID:Europe/London
BEGIN:DAYLIGHT
TZOFFSETFROM:+0000
TZOFFSETTO:+0100
TZNAME:BST
DTSTART:20170326T010000
END:DAYLIGHT
BEGIN:STANDARD
TZOFFSETFROM:+0100
TZOFFSETTO:+0000
TZNAME:GMT
DTSTART:20171029T010000
END:STANDARD
BEGIN:DAYLIGHT
TZOFFSETFROM:+0000
TZOFFSETTO:+0100
TZNAME:BST
DTSTART:20180325T010000
END:DAYLIGHT
BEGIN:STANDARD
TZOFFSETFROM:+0100
TZOFFSETTO:+0000
TZNAME:GMT
DTSTART:20181028T010000
END:STANDARD
BEGIN:DAYLIGHT
TZOFFSETFROM:+0000
TZOFFSETTO:+0100
TZNAME:BST
DTSTART:20190331T010000
END:DAYLIGHT
BEGIN:STANDARD
TZOFFSETFROM:+0100
TZOFFSETTO:+0000
TZNAME:GMT
DTSTART:20191027T010000
END:STANDARD
BEGIN:DAYLIGHT
TZOFFSETFROM:+0000
TZOFFSETTO:+0100
TZNAME:BST
DTSTART:20200329T010000
END:DAYLIGHT
BEGIN:STANDARD
TZOFFSETFROM:+0100
TZOFFSETTO:+0000
TZNAME:GMT
DTSTART:20201025T010000
END:STANDARD
END:VTIMEZONE
BEGIN:VEVENT
DTSTART;VALUE=DATE:20190112
DTEND;VALUE=DATE:20190113
DTSTAMP:20260422T132159
CREATED:20180605T080636Z
LAST-MODIFIED:20181211T181546Z
UID:874-1547251200-1547337599@thorpemorieuxparish.gov.uk
SUMMARY:Thorpe Times Copy Deadline
DESCRIPTION:If you wish to submit material or an event for the magazine\, please email the editorial team at the address detailed below. Submission guidance and advertising insertion details can be found on the Parish Magazine page.
URL:https://thorpemorieuxparish.gov.uk/event/thorpe-times-copy-deadline-4/
CATEGORIES:Thorpe Times Deadlines
ORGANIZER;CN="Thorpe Times Editorial Team":MAILTO:thorpetimes@gmail.com
END:VEVENT
BEGIN:VEVENT
DTSTART;VALUE=DATE:20181112
DTEND;VALUE=DATE:20181113
DTSTAMP:20260422T132159
CREATED:20180605T080557Z
LAST-MODIFIED:20180606T162402Z
UID:872-1541980800-1542067199@thorpemorieuxparish.gov.uk
SUMMARY:Thorpe Times Copy Deadline
DESCRIPTION:If you wish to submit material or an event for the magazine\, please email the editorial team at the address detailed below. Submission guidance and advertising insertion details can be found on the Parish Magazine page.
URL:https://thorpemorieuxparish.gov.uk/event/thorpe-times-copy-deadline-3/
CATEGORIES:Thorpe Times Deadlines
ORGANIZER;CN="Thorpe Times Editorial Team":MAILTO:thorpetimes@gmail.com
END:VEVENT
BEGIN:VEVENT
DTSTART;VALUE=DATE:20180912
DTEND;VALUE=DATE:20180913
DTSTAMP:20260422T132159
CREATED:20180605T080408Z
LAST-MODIFIED:20180606T162417Z
UID:870-1536710400-1536796799@thorpemorieuxparish.gov.uk
SUMMARY:Thorpe Times Copy Deadline
DESCRIPTION:If you wish to submit material or an event for the magazine\, please email the editorial team at the address detailed below. Submission guidance and advertising insertion details can be found on the Parish Magazine page.
URL:https://thorpemorieuxparish.gov.uk/event/thorpe-times-copy-deadline-2/
CATEGORIES:Thorpe Times Deadlines
ORGANIZER;CN="Thorpe Times Editorial Team":MAILTO:thorpetimes@gmail.com
END:VEVENT
BEGIN:VEVENT
DTSTART;VALUE=DATE:20180712
DTEND;VALUE=DATE:20180713
DTSTAMP:20260422T132159
CREATED:20180605T074553Z
LAST-MODIFIED:20180606T162431Z
UID:859-1531353600-1531439999@thorpemorieuxparish.gov.uk
SUMMARY:Thorpe Times Copy Deadline
DESCRIPTION:If you wish to submit material or an event for the magazine\, please email the editorial team at the address detailed below. Submission guidance and advertising insertion details can be found on the Parish Magazine page.
URL:https://thorpemorieuxparish.gov.uk/event/thorpe-times-copy-deadline/
CATEGORIES:Thorpe Times Deadlines
ORGANIZER;CN="Thorpe Times Editorial Team":MAILTO:thorpetimes@gmail.com
END:VEVENT
END:VCALENDAR